BEGIN:VCALENDAR
VERSION:2.0
PRODID:spatie/icalendar-generator
DESCRIPTION:Events from Vidyasagarschool
X-WR-CALDESC:Events from Vidyasagarschool
REFRESH-INTERVAL;VALUE=DURATION:PT1440M
X-PUBLISHED-TTL:PT1440M
BEGIN:VTIMEZONE
TZID:Etc/GMT+0
BEGIN:STANDARD
DTSTART:20240921T000000Z
TZOFFSETFROM:+0000
TZOFFSETTO:+0000
END:STANDARD
END:VTIMEZONE
BEGIN:VTIMEZONE
TZID:UTC
BEGIN:STANDARD
DTSTART:20250723T211058Z
TZOFFSETFROM:+0000
TZOFFSETTO:+0000
END:STANDARD
END:VTIMEZONE
BEGIN:VEVENT
UID:207-204
DTSTAMP:20260419T211058Z
SUMMARY:Interhouse Competition
LOCATION:
ORGANIZER;CN=vidyasagar:MAILTO:vidyasagar_indore@yahoo.co.in
DTSTART;TZID=Etc/GMT+0:20250618T000000
DTEND;TZID=Etc/GMT+0:20250618T010000
X-ALT-DESC;FMTTYPE=TEXT/HTML:MOSAIC &amp;amp\; JUTE ART (IX- XII)/ MIRROR &amp;amp\
 ; POSTER MAKING (VI-VIII)
CATEGORIES:General
URL;VALUE=URI:https://vidyasagarschool.org/mc-events/interhouse-competition
 /
METHOD:PUBLISH
END:VEVENT
END:VCALENDAR