BEGIN:VCALENDAR
VERSION:2.0
PRODID:spatie/icalendar-generator
DESCRIPTION:Events from Vidyasagarschool
X-WR-CALDESC:Events from Vidyasagarschool
REFRESH-INTERVAL;VALUE=DURATION:PT1440M
X-PUBLISHED-TTL:PT1440M
BEGIN:VTIMEZONE
TZID:Etc/GMT+0
BEGIN:STANDARD
DTSTART:20241019T000000Z
TZOFFSETFROM:+0000
TZOFFSETTO:+0000
END:STANDARD
END:VTIMEZONE
BEGIN:VTIMEZONE
TZID:UTC
BEGIN:STANDARD
DTSTART:20250723T184058Z
TZOFFSETFROM:+0000
TZOFFSETTO:+0000
END:STANDARD
END:VTIMEZONE
BEGIN:VEVENT
UID:219-212
DTSTAMP:20260419T184058Z
SUMMARY:SPORTS Badminton\, Swimmimg\, Table Tennis \, Taekwando
LOCATION:
ORGANIZER;CN=vidyasagar:MAILTO:vidyasagar_indore@yahoo.co.in
DTSTART;TZID=Etc/GMT+0:20250716T000000
DTEND;TZID=Etc/GMT+0:20250716T010000
X-ALT-DESC;FMTTYPE=TEXT/HTML:INTER HOUSE COMPETITION
CATEGORIES:General
URL;VALUE=URI:https://vidyasagarschool.org/mc-events/sports-badminton-swimm
 img-table-tennis-taekwando/
METHOD:PUBLISH
END:VEVENT
END:VCALENDAR