BEGIN:VCALENDAR
VERSION:2.0
PRODID:spatie/icalendar-generator
DESCRIPTION:Events from Vidyasagarschool
X-WR-CALDESC:Events from Vidyasagarschool
REFRESH-INTERVAL;VALUE=DURATION:PT1440M
X-PUBLISHED-TTL:PT1440M
BEGIN:VTIMEZONE
TZID:Etc/GMT+0
BEGIN:STANDARD
DTSTART:20241102T000000Z
TZOFFSETFROM:+0000
TZOFFSETTO:+0000
END:STANDARD
END:VTIMEZONE
BEGIN:VTIMEZONE
TZID:UTC
BEGIN:STANDARD
DTSTART:20250723T172456Z
TZOFFSETFROM:+0000
TZOFFSETTO:+0000
END:STANDARD
END:VTIMEZONE
BEGIN:VEVENT
UID:224-217
DTSTAMP:20260419T172456Z
SUMMARY:PROJECT PRESENTATION SCIENCE (VI-VIII) \; MATHS (IX-XII)
LOCATION:
ORGANIZER;CN=vidyasagar:MAILTO:vidyasagar_indore@yahoo.co.in
DTSTART;TZID=Etc/GMT+0:20250730T000000
DTEND;TZID=Etc/GMT+0:20250730T010000
X-ALT-DESC;FMTTYPE=TEXT/HTML:
CATEGORIES:General
URL;VALUE=URI:https://vidyasagarschool.org/mc-events/project-presentation-s
 cience-vi-viii-maths-ix-xii/
METHOD:PUBLISH
END:VEVENT
END:VCALENDAR