BEGIN:VCALENDAR
VERSION:2.0
PRODID:spatie/icalendar-generator
DESCRIPTION:Events from Vidyasagarschool
X-WR-CALDESC:Events from Vidyasagarschool
REFRESH-INTERVAL;VALUE=DURATION:PT1440M
X-PUBLISHED-TTL:PT1440M
BEGIN:VTIMEZONE
TZID:Etc/GMT+0
BEGIN:STANDARD
DTSTART:20241111T000000Z
TZOFFSETFROM:+0000
TZOFFSETTO:+0000
END:STANDARD
END:VTIMEZONE
BEGIN:VTIMEZONE
TZID:UTC
BEGIN:STANDARD
DTSTART:20250723T175012Z
TZOFFSETFROM:+0000
TZOFFSETTO:+0000
END:STANDARD
END:VTIMEZONE
BEGIN:VEVENT
UID:260-253
DTSTAMP:20260419T175012Z
SUMMARY:Boarders can leave for Rakshabandhan after school from 3 pm
LOCATION:
ORGANIZER;CN=vidyasagar:MAILTO:vidyasagar_indore@yahoo.co.in
DTSTART;TZID=Etc/GMT+0:20250808T000000
DTEND;TZID=Etc/GMT+0:20250808T010000
X-ALT-DESC;FMTTYPE=TEXT/HTML:
CATEGORIES:Boarding Calendar
URL;VALUE=URI:https://vidyasagarschool.org/mc-events/boarders-can-leave-for
 -rakshabandhan-after-school-from-3-pm/
METHOD:PUBLISH
END:VEVENT
END:VCALENDAR