BEGIN:VCALENDAR
VERSION:2.0
PRODID:spatie/icalendar-generator
DESCRIPTION:Events from Vidyasagarschool
X-WR-CALDESC:Events from Vidyasagarschool
REFRESH-INTERVAL;VALUE=DURATION:PT1440M
X-PUBLISHED-TTL:PT1440M
BEGIN:VTIMEZONE
TZID:Etc/GMT+0
BEGIN:STANDARD
DTSTART:20250129T000000Z
TZOFFSETFROM:+0000
TZOFFSETTO:+0000
END:STANDARD
END:VTIMEZONE
BEGIN:VTIMEZONE
TZID:UTC
BEGIN:STANDARD
DTSTART:20250723T163808Z
TZOFFSETFROM:+0000
TZOFFSETTO:+0000
END:STANDARD
END:VTIMEZONE
BEGIN:VEVENT
UID:274-267
DTSTAMP:20260419T163808Z
SUMMARY:Reporting of Boarders by 5 pm
LOCATION:
ORGANIZER;CN=vidyasagar:MAILTO:vidyasagar_indore@yahoo.co.in
DTSTART;TZID=Etc/GMT+0:20251026T000000
DTEND;TZID=Etc/GMT+0:20251026T010000
X-ALT-DESC;FMTTYPE=TEXT/HTML:
CATEGORIES:Boarding Calendar
URL;VALUE=URI:https://vidyasagarschool.org/mc-events/reporting-of-boarders-
 by-5-pm/
METHOD:PUBLISH
END:VEVENT
END:VCALENDAR