BEGIN:VCALENDAR
VERSION:2.0
PRODID:spatie/icalendar-generator
DESCRIPTION:Events from Vidyasagarschool
X-WR-CALDESC:Events from Vidyasagarschool
REFRESH-INTERVAL;VALUE=DURATION:PT1440M
X-PUBLISHED-TTL:PT1440M
BEGIN:VTIMEZONE
TZID:Etc/GMT+0
BEGIN:STANDARD
DTSTART:20240912T000000Z
TZOFFSETFROM:+0000
TZOFFSETTO:+0000
END:STANDARD
END:VTIMEZONE
BEGIN:VTIMEZONE
TZID:UTC
BEGIN:STANDARD
DTSTART:20250723T233247Z
TZOFFSETFROM:+0000
TZOFFSETTO:+0000
END:STANDARD
END:VTIMEZONE
BEGIN:VEVENT
UID:205-202
DTSTAMP:20260419T233247Z
SUMMARY:SCHOOL RE-OPENS FOR STUDENTS
LOCATION:
ORGANIZER;CN=vidyasagar:MAILTO:vidyasagar_indore@yahoo.co.in
DTSTART;TZID=Etc/GMT+0;VALUE=DATE:20250609
DTEND;TZID=Etc/GMT+0;VALUE=DATE:20250610
X-ALT-DESC;FMTTYPE=TEXT/HTML:
CATEGORIES:Boarding Calendar,  General
URL;VALUE=URI:https://vidyasagarschool.org/mc-events/school-re-opens-for-st
 udents/
METHOD:PUBLISH
END:VEVENT
END:VCALENDAR