BEGIN:VCALENDAR
VERSION:2.0
PRODID:spatie/icalendar-generator
DESCRIPTION:Events from Vidyasagarschool
X-WR-CALDESC:Events from Vidyasagarschool
REFRESH-INTERVAL;VALUE=DURATION:PT1440M
X-PUBLISHED-TTL:PT1440M
BEGIN:VTIMEZONE
TZID:Etc/GMT+0
BEGIN:STANDARD
DTSTART:20241217T000000Z
TZOFFSETFROM:+0000
TZOFFSETTO:+0000
END:STANDARD
END:VTIMEZONE
BEGIN:VTIMEZONE
TZID:UTC
BEGIN:STANDARD
DTSTART:20250723T180349Z
TZOFFSETFROM:+0000
TZOFFSETTO:+0000
END:STANDARD
END:VTIMEZONE
BEGIN:VEVENT
UID:234-227
DTSTAMP:20260419T180349Z
SUMMARY:SHLOKA &amp;amp\; DOHA CHANTING (III-V)                     HY PRACTICA
 LS CONCLUDE VI -XI
LOCATION:
ORGANIZER;CN=vidyasagar:MAILTO:vidyasagar_indore@yahoo.co.in
DTSTART;TZID=Etc/GMT+0:20250913T000000
DTEND;TZID=Etc/GMT+0:20250913T010000
X-ALT-DESC;FMTTYPE=TEXT/HTML:INTER HOUSE COMPETITION
CATEGORIES:General
URL;VALUE=URI:https://vidyasagarschool.org/mc-events/shloka-doha-chanting-i
 ii-v-hy-practicals-conclude-vi-xi/
METHOD:PUBLISH
END:VEVENT
END:VCALENDAR