BEGIN:VCALENDAR
VERSION:2.0
PRODID:spatie/icalendar-generator
DESCRIPTION:Events from Vidyasagarschool
X-WR-CALDESC:Events from Vidyasagarschool
REFRESH-INTERVAL;VALUE=DURATION:PT1440M
X-PUBLISHED-TTL:PT1440M
BEGIN:VTIMEZONE
TZID:Etc/GMT+0
BEGIN:STANDARD
DTSTART:20250401T000000Z
TZOFFSETFROM:+0000
TZOFFSETTO:+0000
END:STANDARD
END:VTIMEZONE
BEGIN:VTIMEZONE
TZID:UTC
BEGIN:STANDARD
DTSTART:20250723T220143Z
TZOFFSETFROM:+0000
TZOFFSETTO:+0000
END:STANDARD
END:VTIMEZONE
BEGIN:VEVENT
UID:253-246
DTSTAMP:20260419T220143Z
SUMMARY:II PERIODICAL EXAMS &amp;amp\; I PRE BOARD ENDS  (III-XII)
LOCATION:
ORGANIZER;CN=vidyasagar:MAILTO:vidyasagar_indore@yahoo.co.in
DTSTART;TZID=Etc/GMT+0:20251227T000000
DTEND;TZID=Etc/GMT+0:20251227T010000
X-ALT-DESC;FMTTYPE=TEXT/HTML:
CATEGORIES:General
URL;VALUE=URI:https://vidyasagarschool.org/mc-events/ii-periodical-exams-i-
 pre-board-ends-iii-xii/
METHOD:PUBLISH
END:VEVENT
END:VCALENDAR